{"text_format":"3","workbook":"xlsx","n_sheets":1,"sheets":["Sheet1"],"not_rendered":{"external_links":1},"read":"whole","date_system":"1900"}

{"sheet":"Sheet1","index":0,"n_rows":171,"n_cols":4,"rows_kept":171}
["排名","学号","绩点","综合绩点"]
[1,1800015173,3.881,{"$f":"SUM([1]综合绩点统计按排名!D2:E2)","v":{"v":3.925,"d":"3.9250"}}]
[2,1800015176,3.847,{"$f":"SUM([1]综合绩点统计按排名!D3:E3)","v":{"v":3.884,"d":"3.8840"}}]
[3,1800015197,3.855,{"$f":"SUM([1]综合绩点统计按排名!D4:E4)","v":{"v":3.881,"d":"3.8810"}}]
[4,1800015210,3.824,{"$f":"SUM([1]综合绩点统计按排名!D5:E5)","v":{"v":3.86,"d":"3.8600"}}]
[5,1800015104,3.791,{"$f":"SUM([1]综合绩点统计按排名!D6:E6)","v":{"v":3.8209999999999997,"d":"3.8210"}}]
[6,1800015160,3.811,{"$f":"SUM([1]综合绩点统计按排名!D7:E7)","v":{"v":3.811,"d":"3.8110"}}]
[7,1800015114,3.784,{"$f":"SUM([1]综合绩点统计按排名!D8:E8)","v":3.8072}]
[8,1800015139,3.748,{"$f":"SUM([1]综合绩点统计按排名!D9:E9)","v":3.7924}]
[9,1800015141,3.762,{"$f":"SUM([1]综合绩点统计按排名!D10:E10)","v":{"v":3.78,"d":"3.7800"}}]
[10,1700017475,3.779,{"$f":"SUM([1]综合绩点统计按排名!D11:E11)","v":{"v":3.779,"d":"3.7790"}}]
[11,1800015167,3.764,{"$f":"SUM([1]综合绩点统计按排名!D12:E12)","v":{"v":3.7779999999999996,"d":"3.7780"}}]
[12,1800015110,3.753,{"$f":"SUM([1]综合绩点统计按排名!D13:E13)","v":{"v":3.7760000000000002,"d":"3.7760"}}]
[13,1800015209,3.755,{"$f":"SUM([1]综合绩点统计按排名!D14:E14)","v":{"v":3.775,"d":"3.7750"}}]
[14,1800015203,3.732,{"$f":"SUM([1]综合绩点统计按排名!D15:E15)","v":{"v":3.7680000000000002,"d":"3.7680"}}]
[15,1700014718,{"v":3.74,"d":"3.740"},{"$f":"SUM([1]综合绩点统计按排名!D16:E16)","v":{"v":3.753,"d":"3.7530"}}]
[16,1800015190,3.753,{"$f":"SUM([1]综合绩点统计按排名!D17:E17)","v":{"v":3.753,"d":"3.7530"}}]
[17,1700018317,3.742,{"$f":"SUM([1]综合绩点统计按排名!D18:E18)","v":{"v":3.7479999999999998,"d":"3.7480"}}]
[18,1800015106,3.731,{"$f":"SUM([1]综合绩点统计按排名!D19:E19)","v":{"v":3.747,"d":"3.7470"}}]
[19,1800015146,3.725,{"v":3.747,"d":"3.7470"}]
[20,1800015107,3.728,{"$f":"SUM([1]综合绩点统计按排名!D21:E21)","v":{"v":3.746,"d":"3.7460"}}]
[21,1800015165,3.743,{"$f":"SUM([1]综合绩点统计按排名!D22:E22)","v":{"v":3.743,"d":"3.7430"}}]
[22,1800015134,3.716,{"$f":"SUM([1]综合绩点统计按排名!D23:E23)","v":{"v":3.736,"d":"3.7360"}}]
[23,1800015152,3.709,{"$f":"SUM([1]综合绩点统计按排名!D24:E24)","v":{"v":3.736,"d":"3.7360"}}]
[24,1800015149,3.682,{"$f":"SUM([1]综合绩点统计按排名!D25:E25)","v":{"v":3.735,"d":"3.7350"}}]
[25,1800015211,3.715,{"$f":"SUM([1]综合绩点统计按排名!D26:E26)","v":{"v":3.7321999999999997,"d":"3.7322"}}]
[26,1800015109,{"v":3.68,"d":"3.680"},{"$f":"SUM([1]综合绩点统计按排名!D27:E27)","v":{"v":3.732,"d":"3.7320"}}]
[27,1800015163,3.728,{"$f":"SUM([1]综合绩点统计按排名!D28:E28)","v":{"v":3.728,"d":"3.7280"}}]
[28,1800015202,3.715,{"$f":"SUM([1]综合绩点统计按排名!D29:E29)","v":{"v":3.723,"d":"3.7230"}}]
[29,1800017407,3.717,{"$f":"SUM([1]综合绩点统计按排名!D30:E30)","v":{"v":3.723,"d":"3.7230"}}]
[30,1800015131,3.685,{"$f":"SUM([1]综合绩点统计按排名!D31:E31)","v":{"v":3.717,"d":"3.7170"}}]
[31,1800015186,3.706,{"$f":"SUM([1]综合绩点统计按排名!D32:E32)","v":{"v":3.713,"d":"3.7130"}}]
[32,1800015187,3.707,{"$f":"SUM([1]综合绩点统计按排名!D33:E33)","v":{"v":3.707,"d":"3.7070"}}]
[33,1800015121,3.692,{"$f":"SUM([1]综合绩点统计按排名!D34:E34)","v":{"v":3.706,"d":"3.7060"}}]
[34,1800015194,3.672,{"$f":"SUM([1]综合绩点统计按排名!D35:E35)","v":{"v":3.706,"d":"3.7060"}}]
[35,1800015157,3.694,{"$f":"SUM([1]综合绩点统计按排名!D36:E36)","v":{"v":3.6999999999999997,"d":"3.7000"}}]
[36,1800015133,3.699,{"$f":"SUM([1]综合绩点统计按排名!D37:E37)","v":{"v":3.699,"d":"3.6990"}}]
[37,1800015196,3.693,{"$f":"SUM([1]综合绩点统计按排名!D38:E38)","v":{"v":3.699,"d":"3.6990"}}]
[38,1800015166,3.694,{"$f":"SUM([1]综合绩点统计按排名!D39:E39)","v":{"v":3.694,"d":"3.6940"}}]
[39,1800015151,3.693,{"$f":"SUM([1]综合绩点统计按排名!D40:E40)","v":{"v":3.693,"d":"3.6930"}}]
[40,1800015198,{"v":3.65,"d":"3.650"},{"$f":"SUM([1]综合绩点统计按排名!D41:E41)","v":{"v":3.693,"d":"3.6930"}}]
[41,1800015168,3.675,{"$f":"SUM([1]综合绩点统计按排名!D42:E42)","v":{"v":3.691,"d":"3.6910"}}]
[42,1800015162,{"v":3.69,"d":"3.690"},{"$f":"SUM([1]综合绩点统计按排名!D43:E43)","v":{"v":3.69,"d":"3.6900"}}]
[43,1700018733,{"v":3.64,"d":"3.640"},{"$f":"SUM([1]综合绩点统计按排名!D44:E44)","v":{"v":3.68,"d":"3.6800"}}]
[44,1800015119,3.671,{"$f":"SUM([1]综合绩点统计按排名!D45:E45)","v":{"v":3.6769999999999996,"d":"3.6770"}}]
[45,1700015897,3.674,{"$f":"SUM([1]综合绩点统计按排名!D46:E46)","v":{"v":3.674,"d":"3.6740"}}]
[46,1800015118,{"v":3.66,"d":"3.660"},{"$f":"SUM([1]综合绩点统计按排名!D47:E47)","v":{"v":3.674,"d":"3.6740"}}]
[47,1800018117,3.674,{"$f":"SUM([1]综合绩点统计按排名!D48:E48)","v":{"v":3.674,"d":"3.6740"}}]
[48,1800014934,3.667,{"$f":"SUM([1]综合绩点统计按排名!D49:E49)","v":{"v":3.667,"d":"3.6670"}}]
[49,1800015177,3.651,{"$f":"SUM([1]综合绩点统计按排名!D50:E50)","v":{"v":3.651,"d":"3.6510"}}]
[50,1800015171,3.649,{"$f":"SUM([1]综合绩点统计按排名!D51:E51)","v":{"v":3.649,"d":"3.6490"}}]
[51,1800015204,3.649,{"$f":"SUM([1]综合绩点统计按排名!D52:E52)","v":{"v":3.649,"d":"3.6490"}}]
[52,1700018814,3.648,{"$f":"SUM([1]综合绩点统计按排名!D53:E53)","v":{"v":3.648,"d":"3.6480"}}]
[53,1800015170,3.639,{"$f":"SUM([1]综合绩点统计按排名!D54:E54)","v":{"v":3.6449999999999996,"d":"3.6450"}}]
[54,1800015200,3.639,{"$f":"SUM([1]综合绩点统计按排名!D55:E55)","v":{"v":3.639,"d":"3.6390"}}]
[55,1700013944,3.638,{"$f":"SUM([1]综合绩点统计按排名!D56:E56)","v":{"v":3.638,"d":"3.6380"}}]
[56,1800015122,3.638,{"$f":"SUM([1]综合绩点统计按排名!D57:E57)","v":{"v":3.638,"d":"3.6380"}}]
[57,1800015142,3.607,{"$f":"SUM([1]综合绩点统计按排名!D58:E58)","v":{"v":3.629,"d":"3.6290"}}]
[58,1800015164,3.572,{"$f":"SUM([1]综合绩点统计按排名!D59:E59)","v":{"v":3.624,"d":"3.6240"}}]
[59,1800015113,3.621,{"$f":"SUM([1]综合绩点统计按排名!D60:E60)","v":{"v":3.621,"d":"3.6210"}}]
[60,1800015147,3.621,{"$f":"SUM([1]综合绩点统计按排名!D61:E61)","v":{"v":3.621,"d":"3.6210"}}]
[61,1700015171,{"v":3.62,"d":"3.620"},{"$f":"SUM([1]综合绩点统计按排名!D62:E62)","v":{"v":3.62,"d":"3.6200"}}]
[62,1800015195,3.612,{"$f":"SUM([1]综合绩点统计按排名!D63:E63)","v":{"v":3.618,"d":"3.6180"}}]
[63,1800092408,3.614,{"$f":"SUM([1]综合绩点统计按排名!D64:E64)","v":{"v":3.614,"d":"3.6140"}}]
[64,1700017476,3.609,{"$f":"SUM([1]综合绩点统计按排名!D65:E65)","v":{"v":3.609,"d":"3.6090"}}]
[65,1800015184,3.608,{"$f":"SUM([1]综合绩点统计按排名!D66:E66)","v":{"v":3.608,"d":"3.6080"}}]
[66,1800015115,3.591,{"$f":"SUM([1]综合绩点统计按排名!D67:E67)","v":{"v":3.605,"d":"3.6050"}}]
[67,1700018742,3.604,{"$f":"SUM([1]综合绩点统计按排名!D68:E68)","v":{"v":3.604,"d":"3.6040"}}]
[68,1800013522,3.592,{"$f":"SUM([1]综合绩点统计按排名!D69:E69)","v":{"v":3.602,"d":"3.6020"}}]
[69,1700018318,3.599,{"$f":"SUM([1]综合绩点统计按排名!D70:E70)","v":{"v":3.599,"d":"3.5990"}}]
[70,1800015181,3.573,{"$f":"SUM([1]综合绩点统计按排名!D71:E71)","v":{"v":3.5909999999999997,"d":"3.5910"}}]
[71,1800017755,3.588,{"$f":"SUM([1]综合绩点统计按排名!D72:E72)","v":{"v":3.588,"d":"3.5880"}}]
[72,1800015130,3.585,{"$f":"SUM([1]综合绩点统计按排名!D73:E73)","v":{"v":3.585,"d":"3.5850"}}]
[73,1800092406,3.579,{"$f":"SUM([1]综合绩点统计按排名!D74:E74)","v":{"v":3.579,"d":"3.5790"}}]
[74,1800015127,3.569,{"$f":"SUM([1]综合绩点统计按排名!D75:E75)","v":{"v":3.569,"d":"3.5690"}}]
[75,1800015137,3.551,{"$f":"SUM([1]综合绩点统计按排名!D76:E76)","v":{"v":3.563,"d":"3.5630"}}]
[76,1800015172,3.561,{"$f":"SUM([1]综合绩点统计按排名!D77:E77)","v":{"v":3.561,"d":"3.5610"}}]
[77,1800015120,3.535,{"$f":"SUM([1]综合绩点统计按排名!D78:E78)","v":{"v":3.559,"d":"3.5590"}}]
[78,1800015124,3.556,{"$f":"SUM([1]综合绩点统计按排名!D79:E79)","v":{"v":3.556,"d":"3.5560"}}]
[79,1800015136,3.543,{"$f":"SUM([1]综合绩点统计按排名!D80:E80)","v":{"v":3.555,"d":"3.5550"}}]
[80,1800015185,3.552,{"$f":"SUM([1]综合绩点统计按排名!D81:E81)","v":{"v":3.552,"d":"3.5520"}}]
[81,1800015108,3.548,{"$f":"SUM([1]综合绩点统计按排名!D82:E82)","v":{"v":3.548,"d":"3.5480"}}]
[82,1800015158,3.542,{"$f":"SUM([1]综合绩点统计按排名!D83:E83)","v":{"v":3.542,"d":"3.5420"}}]
[83,1800015126,3.522,{"$f":"SUM([1]综合绩点统计按排名!D84:E84)","v":{"v":3.538,"d":"3.5380"}}]
[84,1700011729,3.534,{"$f":"SUM([1]综合绩点统计按排名!D85:E85)","v":{"v":3.534,"d":"3.5340"}}]
[85,1800015112,3.533,{"$f":"SUM([1]综合绩点统计按排名!D86:E86)","v":{"v":3.533,"d":"3.5330"}}]
[86,1800015148,3.529,{"$f":"SUM([1]综合绩点统计按排名!D87:E87)","v":{"v":3.529,"d":"3.5290"}}]
[87,1800015208,3.491,{"$f":"SUM([1]综合绩点统计按排名!D88:E88)","v":{"v":3.525,"d":"3.5250"}}]
[88,1800015129,{"v":3.52,"d":"3.520"},{"$f":"SUM([1]综合绩点统计按排名!D89:E89)","v":{"v":3.52,"d":"3.5200"}}]
[89,1800015180,{"v":3.52,"d":"3.520"},{"$f":"SUM([1]综合绩点统计按排名!D90:E90)","v":{"v":3.52,"d":"3.5200"}}]
[90,1800092416,3.516,{"$f":"SUM([1]综合绩点统计按排名!D91:E91)","v":{"v":3.516,"d":"3.5160"}}]
[91,1800015159,3.513,{"$f":"SUM([1]综合绩点统计按排名!D92:E92)","v":{"v":3.513,"d":"3.5130"}}]
[92,1800015212,3.511,{"$f":"SUM([1]综合绩点统计按排名!D93:E93)","v":{"v":3.511,"d":"3.5110"}}]
[93,1800015205,3.509,{"$f":"SUM([1]综合绩点统计按排名!D94:E94)","v":{"v":3.509,"d":"3.5090"}}]
[94,1800014715,3.508,{"$f":"SUM([1]综合绩点统计按排名!D95:E95)","v":{"v":3.508,"d":"3.5080"}}]
[95,1800015155,3.492,{"$f":"SUM([1]综合绩点统计按排名!D96:E96)","v":{"v":3.492,"d":"3.4920"}}]
[96,1800015220,3.487,{"$f":"SUM([1]综合绩点统计按排名!D97:E97)","v":{"v":3.487,"d":"3.4870"}}]
[97,1800015169,3.473,{"$f":"SUM([1]综合绩点统计按排名!D98:E98)","v":{"v":3.473,"d":"3.4730"}}]
[98,1800092403,3.473,{"$f":"SUM([1]综合绩点统计按排名!D99:E99)","v":{"v":3.473,"d":"3.4730"}}]
[99,1800092405,3.469,{"$f":"SUM([1]综合绩点统计按排名!D100:E100)","v":{"v":3.469,"d":"3.4690"}}]
[100,1800015206,3.465,{"$f":"SUM([1]综合绩点统计按排名!D101:E101)","v":{"v":3.465,"d":"3.4650"}}]
[101,1800092424,3.464,{"$f":"SUM([1]综合绩点统计按排名!D102:E102)","v":{"v":3.464,"d":"3.4640"}}]
[102,1700015146,3.455,{"$f":"SUM([1]综合绩点统计按排名!D103:E103)","v":{"v":3.455,"d":"3.4550"}}]
[103,1800015161,3.454,{"$f":"SUM([1]综合绩点统计按排名!D104:E104)","v":{"v":3.454,"d":"3.4540"}}]
[104,1800015103,{"v":3.45,"d":"3.450"},{"$f":"SUM([1]综合绩点统计按排名!D105:E105)","v":{"v":3.45,"d":"3.4500"}}]
[105,1800015199,{"v":3.44,"d":"3.440"},{"$f":"SUM([1]综合绩点统计按排名!D106:E106)","v":{"v":3.44,"d":"3.4400"}}]
[106,1800015175,3.432,{"$f":"SUM([1]综合绩点统计按排名!D107:E107)","v":{"v":3.432,"d":"3.4320"}}]
[107,1800092432,3.428,{"$f":"SUM([1]综合绩点统计按排名!D108:E108)","v":{"v":3.428,"d":"3.4280"}}]
[108,1800015150,3.421,{"$f":"SUM([1]综合绩点统计按排名!D109:E109)","v":{"v":3.421,"d":"3.4210"}}]
[109,1800015201,3.389,{"$f":"SUM([1]综合绩点统计按排名!D110:E110)","v":{"v":3.409,"d":"3.4090"}}]
[110,1800015116,3.402,{"$f":"SUM([1]综合绩点统计按排名!D111:E111)","v":{"v":3.402,"d":"3.4020"}}]
[111,1800015213,3.393,{"$f":"SUM([1]综合绩点统计按排名!D112:E112)","v":{"v":3.393,"d":"3.3930"}}]
[112,1800015207,3.381,{"$f":"SUM([1]综合绩点统计按排名!D113:E113)","v":{"v":3.381,"d":"3.3810"}}]
[113,1800017409,3.367,{"$f":"SUM([1]综合绩点统计按排名!D114:E114)","v":{"v":3.367,"d":"3.3670"}}]
[114,1800015123,3.321,{"$f":"SUM([1]综合绩点统计按排名!D115:E115)","v":{"v":3.3602000000000003,"d":"3.3602"}}]
[115,1800092428,3.354,{"$f":"SUM([1]综合绩点统计按排名!D116:E116)","v":{"v":3.354,"d":"3.3540"}}]
[116,1500015164,{"v":3.33,"d":"3.330"},{"$f":"SUM([1]综合绩点统计按排名!D117:E117)","v":{"v":3.35,"d":"3.3500"}}]
[117,1800015135,3.335,{"$f":"SUM([1]综合绩点统计按排名!D118:E118)","v":{"v":3.335,"d":"3.3350"}}]
[118,1800092419,3.334,{"$f":"SUM([1]综合绩点统计按排名!D119:E119)","v":{"v":3.334,"d":"3.3340"}}]
[119,1800015219,3.327,{"$f":"SUM([1]综合绩点统计按排名!D120:E120)","v":{"v":3.327,"d":"3.3270"}}]
[120,1800015214,3.313,{"$f":"SUM([1]综合绩点统计按排名!D121:E121)","v":{"v":3.313,"d":"3.3130"}}]
[121,1800015218,{"v":3.31,"d":"3.310"},{"$f":"SUM([1]综合绩点统计按排名!D122:E122)","v":{"v":3.31,"d":"3.3100"}}]
[122,1800015217,3.303,{"$f":"SUM([1]综合绩点统计按排名!D123:E123)","v":{"v":3.303,"d":"3.3030"}}]
[123,1800015216,3.298,{"$f":"SUM([1]综合绩点统计按排名!D124:E124)","v":{"v":3.298,"d":"3.2980"}}]
[124,1800015179,3.284,{"$f":"SUM([1]综合绩点统计按排名!D125:E125)","v":{"v":3.284,"d":"3.2840"}}]
[125,1800017450,3.247,{"$f":"SUM([1]综合绩点统计按排名!D126:E126)","v":{"v":3.247,"d":"3.2470"}}]
[126,1800015191,3.222,{"$f":"SUM([1]综合绩点统计按排名!D127:E127)","v":{"v":3.222,"d":"3.2220"}}]
[127,1800016654,3.215,{"$f":"SUM([1]综合绩点统计按排名!D128:E128)","v":{"v":3.215,"d":"3.2150"}}]
[128,1800092423,3.213,{"$f":"SUM([1]综合绩点统计按排名!D129:E129)","v":{"v":3.213,"d":"3.2130"}}]
[129,1700016913,3.183,{"$f":"SUM([1]综合绩点统计按排名!D130:E130)","v":{"v":3.183,"d":"3.1830"}}]
[130,1800015188,3.177,{"$f":"SUM([1]综合绩点统计按排名!D131:E131)","v":{"v":3.177,"d":"3.1770"}}]
[131,1800015174,3.127,{"$f":"SUM([1]综合绩点统计按排名!D132:E132)","v":{"v":3.1529999999999996,"d":"3.1530"}}]
[132,1800092443,3.139,{"$f":"SUM([1]综合绩点统计按排名!D133:E133)","v":{"v":3.139,"d":"3.1390"}}]
[133,1700015103,3.086,{"$f":"SUM([1]综合绩点统计按排名!D134:E134)","v":{"v":3.118,"d":"3.1180"}}]
[134,1800015140,3.113,{"$f":"SUM([1]综合绩点统计按排名!D135:E135)","v":{"v":3.113,"d":"3.1130"}}]
[135,1800092418,3.112,{"$f":"SUM([1]综合绩点统计按排名!D136:E136)","v":{"v":3.112,"d":"3.1120"}}]
[136,1800015128,3.096,{"$f":"SUM([1]综合绩点统计按排名!D137:E137)","v":{"v":3.096,"d":"3.0960"}}]
[137,1800092422,3.084,{"$f":"SUM([1]综合绩点统计按排名!D138:E138)","v":{"v":3.084,"d":"3.0840"}}]
[138,1800015101,3.072,{"$f":"SUM([1]综合绩点统计按排名!D139:E139)","v":{"v":3.072,"d":"3.0720"}}]
[139,1700015104,3.043,{"$f":"SUM([1]综合绩点统计按排名!D140:E140)","v":{"v":3.043,"d":"3.0430"}}]
[140,1800092434,3.041,{"$f":"SUM([1]综合绩点统计按排名!D141:E141)","v":{"v":3.041,"d":"3.0410"}}]
[141,1800015111,3.006,{"$f":"SUM([1]综合绩点统计按排名!D142:E142)","v":{"v":3.006,"d":"3.0060"}}]
[142,1600092409,3.005,{"$f":"SUM([1]综合绩点统计按排名!D143:E143)","v":{"v":3.005,"d":"3.0050"}}]
[143,1800015192,2.988,{"$f":"SUM([1]综合绩点统计按排名!D144:E144)","v":{"v":2.988,"d":"2.9880"}}]
[144,1600092407,2.978,{"$f":"SUM([1]综合绩点统计按排名!D145:E145)","v":{"v":2.978,"d":"2.9780"}}]
[145,1600092411,2.975,{"$f":"SUM([1]综合绩点统计按排名!D146:E146)","v":{"v":2.975,"d":"2.9750"}}]
[146,1800092437,2.972,{"$f":"SUM([1]综合绩点统计按排名!D147:E147)","v":{"v":2.972,"d":"2.9720"}}]
[147,1800092429,{"v":2.97,"d":"2.970"},{"$f":"SUM([1]综合绩点统计按排名!D148:E148)","v":{"v":2.97,"d":"2.9700"}}]
[148,1800092435,2.954,{"$f":"SUM([1]综合绩点统计按排名!D149:E149)","v":{"v":2.954,"d":"2.9540"}}]
[149,1800092413,2.937,{"$f":"SUM([1]综合绩点统计按排名!D150:E150)","v":{"v":2.937,"d":"2.9370"}}]
[150,1800092415,2.925,{"$f":"SUM([1]综合绩点统计按排名!D151:E151)","v":{"v":2.925,"d":"2.9250"}}]
[151,1500094616,2.906,{"$f":"SUM([1]综合绩点统计按排名!D152:E152)","v":{"v":2.906,"d":"2.9060"}}]
[152,1800092417,2.905,{"$f":"SUM([1]综合绩点统计按排名!D153:E153)","v":{"v":2.905,"d":"2.9050"}}]
[153,1800092441,{"v":2.87,"d":"2.870"},{"$f":"SUM([1]综合绩点统计按排名!D154:E154)","v":{"v":2.87,"d":"2.8700"}}]
[154,1700092441,2.866,{"$f":"SUM([1]综合绩点统计按排名!D155:E155)","v":{"v":2.866,"d":"2.8660"}}]
[155,1700015147,2.844,{"$f":"SUM([1]综合绩点统计按排名!D156:E156)","v":{"v":2.844,"d":"2.8440"}}]
[156,1700015168,2.838,{"$f":"SUM([1]综合绩点统计按排名!D157:E157)","v":{"v":2.838,"d":"2.8380"}}]
[157,1700015135,2.814,{"$f":"SUM([1]综合绩点统计按排名!D158:E158)","v":{"v":2.814,"d":"2.8140"}}]
[158,1800092439,2.781,{"$f":"SUM([1]综合绩点统计按排名!D159:E159)","v":{"v":2.781,"d":"2.7810"}}]
[159,1800092431,2.763,{"$f":"SUM([1]综合绩点统计按排名!D160:E160)","v":{"v":2.763,"d":"2.7630"}}]
[160,1600092405,2.758,{"$f":"SUM([1]综合绩点统计按排名!D161:E161)","v":{"v":2.758,"d":"2.7580"}}]
[161,1700015119,2.728,{"$f":"SUM([1]综合绩点统计按排名!D162:E162)","v":{"v":2.728,"d":"2.7280"}}]
[162,1800092436,2.702,{"$f":"SUM([1]综合绩点统计按排名!D163:E163)","v":{"v":2.702,"d":"2.7020"}}]
[163,1800092440,2.693,{"$f":"SUM([1]综合绩点统计按排名!D164:E164)","v":{"v":2.693,"d":"2.6930"}}]
[164,1800092442,2.674,{"$f":"SUM([1]综合绩点统计按排名!D165:E165)","v":{"v":2.674,"d":"2.6740"}}]
[165,1700092432,2.596,{"$f":"SUM([1]综合绩点统计按排名!D166:E166)","v":{"v":2.596,"d":"2.5960"}}]
[166,1700015148,2.532,{"$f":"SUM([1]综合绩点统计按排名!D167:E167)","v":{"v":2.532,"d":"2.5320"}}]
[167,1600092413,2.525,{"$f":"SUM([1]综合绩点统计按排名!D168:E168)","v":{"v":2.525,"d":"2.5250"}}]
[168,1800092411,2.334,{"$f":"SUM([1]综合绩点统计按排名!D169:E169)","v":{"v":2.334,"d":"2.3340"}}]
[169,1500092432,2.277,{"$f":"SUM([1]综合绩点统计按排名!D170:E170)","v":{"v":2.277,"d":"2.2770"}}]
[170,1800017729,2.201,{"$f":"SUM([1]综合绩点统计按排名!D171:E171)","v":{"v":2.201,"d":"2.2010"}}]